BEGIN:VCALENDAR
VERSION:2.0
PRODID:-//EEP//EN
BEGIN:VEVENT
UID:eep-584-6f6f8ef45e08b90f64fd9d4c253ff95c@example
DTSTAMP:20260424T134605Z
DTSTART:20260505T090000Z
DTEND:20260505T150000Z
SUMMARY:NexDirectory Corporate: Strategy Roundtable Forum - Sao Paulo
DESCRIPTION:Strategy Roundtable Forum official programme entry in Sao Paulo with sessions, media, and attendee-ready details.
LOCATION:Rua Jose Bernardo Pinto\, 333
END:VEVENT
END:VCALENDAR
