BEGIN:VCALENDAR
VERSION:2.0
PRODID:-//EEP//EN
BEGIN:VEVENT
UID:eep-582-33a2a5b05fa5044398e42fd52852198f@example
DTSTAMP:20260424T134034Z
DTSTART:20260501T090000Z
DTEND:20260503T090000Z
SUMMARY:NexDirectory Corporate: Member Meetup Series - Dubai
DESCRIPTION:Member Meetup Series official programme entry in Dubai with sessions, media, and attendee-ready details.
LOCATION:Sheikh Zayed Rd
END:VEVENT
END:VCALENDAR
