BEGIN:VCALENDAR
VERSION:2.0
PRODID:-//EEP//EN
BEGIN:VEVENT
UID:eep-581-d46c0fd213f0bec8b0bf69d4197b11af@example
DTSTAMP:20260424T134049Z
DTSTART:20260429T090000Z
DTEND:20260429T170000Z
SUMMARY:NexDirectory Corporate: Executive Networking Evening - Sydney
DESCRIPTION:Executive Networking Evening official programme entry in Sydney with sessions, media, and attendee-ready details.
LOCATION:14 Darling Dr
END:VEVENT
END:VCALENDAR
