BEGIN:VCALENDAR
VERSION:2.0
PRODID:-//EEP//EN
BEGIN:VEVENT
UID:eep-580-e123826bcc4b7c2122787c73c3df4401@example
DTSTAMP:20260424T134049Z
DTSTART:20260427T090000Z
DTEND:20260427T150000Z
SUMMARY:NexDirectory Corporate: Industry Awards Ceremony - Singapore
DESCRIPTION:Industry Awards Ceremony official programme entry in Singapore with sessions, media, and attendee-ready details.
LOCATION:1 Raffles Blvd
END:VEVENT
END:VCALENDAR
