BEGIN:VCALENDAR
VERSION:2.0
PRODID:-//EEP//EN
BEGIN:VEVENT
UID:eep-579-8c6e703a5e1323d53b7db9ef8891cc57@example
DTSTAMP:20260424T134034Z
DTSTART:20250511T090000Z
DTEND:20250511T130000Z
SUMMARY:NexDirectory Corporate: Technology Expo & Trade Show - Paris
DESCRIPTION:Technology Expo & Trade Show official programme entry in Paris with sessions, media, and attendee-ready details.
LOCATION:2 Place de la Porte Maillot
END:VEVENT
END:VCALENDAR
