BEGIN:VCALENDAR
VERSION:2.0
PRODID:-//EEP//EN
BEGIN:VEVENT
UID:eep-578-efa3edb2ac2679d6c0370057d29f7803@example
DTSTAMP:20260424T134550Z
DTSTART:20260423T090000Z
DTEND:20260423T190000Z
SUMMARY:NexDirectory Corporate: Global Standards Congress - Berlin
DESCRIPTION:Global Standards Congress official programme entry in Berlin with sessions, media, and attendee-ready details.
LOCATION:Messedamm 26
END:VEVENT
END:VCALENDAR
