BEGIN:VCALENDAR
VERSION:2.0
PRODID:-//EEP//EN
BEGIN:VEVENT
UID:eep-577-9256886a80ed15141816635a7ce4c3d0@example
DTSTAMP:20260424T133221Z
DTSTART:20260421T090000Z
DTEND:20260421T170000Z
SUMMARY:NexDirectory Corporate: Future Systems Leadership Summit - Toronto
DESCRIPTION:Future Systems Leadership Summit official programme entry in Toronto with sessions, media, and attendee-ready details.
LOCATION:255 Front St W
END:VEVENT
END:VCALENDAR
