BEGIN:VCALENDAR
VERSION:2.0
PRODID:-//EEP//EN
BEGIN:VEVENT
UID:eep-575-002834cfd84c9e9d31369488efddfda5@example
DTSTAMP:20260424T134034Z
DTSTART:20250624T090000Z
DTEND:20250624T130000Z
SUMMARY:NexDirectory Corporate: Archive Spotlight: Annual Congress 2024 - London
DESCRIPTION:Archive Spotlight: Annual Congress 2024 official programme entry in London with sessions, media, and attendee-ready details.
LOCATION:Royal Victoria Dock\, 1 Western Gateway
END:VEVENT
END:VCALENDAR
