BEGIN:VCALENDAR
VERSION:2.0
PRODID:-//EEP//EN
BEGIN:VEVENT
UID:eep-574-305e571a6339d745c8bb98a3adb24d8f@example
DTSTAMP:20260424T134028Z
DTSTART:20260415T090000Z
DTEND:20260415T190000Z
SUMMARY:NexDirectory Corporate: Hybrid Global Broadcast - Sao Paulo
DESCRIPTION:Hybrid Global Broadcast official programme entry in Sao Paulo with sessions, media, and attendee-ready details.
LOCATION:Rua Jose Bernardo Pinto\, 333
END:VEVENT
END:VCALENDAR
