BEGIN:VCALENDAR
VERSION:2.0
PRODID:-//EEP//EN
BEGIN:VEVENT
UID:eep-573-aeeba26bdf3455b173a8fb2261af45e9@example
DTSTAMP:20260424T134028Z
DTSTART:20250716T090000Z
DTEND:20250718T090000Z
SUMMARY:NexDirectory Corporate: Startup Pitch Night - Tokyo
DESCRIPTION:Startup Pitch Night official programme entry in Tokyo with sessions, media, and attendee-ready details.
LOCATION:3-11-1 Ariake
END:VEVENT
END:VCALENDAR
