BEGIN:VCALENDAR
VERSION:2.0
PRODID:-//EEP//EN
BEGIN:VEVENT
UID:eep-572-4f5ed6304b6b04ee1b36c0d1c08d0443@example
DTSTAMP:20260424T134545Z
DTSTART:20260411T090000Z
DTEND:20260411T150000Z
SUMMARY:NexDirectory Corporate: VIP Partner Reception - Dubai
DESCRIPTION:VIP Partner Reception official programme entry in Dubai with sessions, media, and attendee-ready details.
LOCATION:Sheikh Zayed Rd
END:VEVENT
END:VCALENDAR
