BEGIN:VCALENDAR
VERSION:2.0
PRODID:-//EEP//EN
BEGIN:VEVENT
UID:eep-571-29aa6db3c346be83ccf2f97ac31a59c5@example
DTSTAMP:20260424T134519Z
DTSTART:20260409T090000Z
DTEND:20260409T130000Z
SUMMARY:NexDirectory Corporate: Engineering Scholarship Fundraiser - Sydney
DESCRIPTION:Engineering Scholarship Fundraiser official programme entry in Sydney with sessions, media, and attendee-ready details.
LOCATION:14 Darling Dr
END:VEVENT
END:VCALENDAR
