BEGIN:VCALENDAR
VERSION:2.0
PRODID:-//EEP//EN
BEGIN:VEVENT
UID:eep-570-4cb08e2188dfc6f58b4994e6fdb92df9@example
DTSTAMP:20260424T160638Z
DTSTART:20260407T090000Z
DTEND:20260407T190000Z
SUMMARY:NexDirectory Corporate: Brand Activation Live Experience - Singapore
DESCRIPTION:Brand Activation Live Experience official programme entry in Singapore with sessions, media, and attendee-ready details.
LOCATION:1 Raffles Blvd
END:VEVENT
END:VCALENDAR
