BEGIN:VCALENDAR
VERSION:2.0
PRODID:-//EEP//EN
BEGIN:VEVENT
UID:eep-569-a47d4302f90a495f696c96a5da3f1649@example
DTSTAMP:20260424T161058Z
DTSTART:20260405T090000Z
DTEND:20260405T170000Z
SUMMARY:NexDirectory Corporate: Regional Roadshow Series - Paris
DESCRIPTION:Regional Roadshow Series official programme entry in Paris with sessions, media, and attendee-ready details.
LOCATION:2 Place de la Porte Maillot
END:VEVENT
END:VCALENDAR
