BEGIN:VCALENDAR
VERSION:2.0
PRODID:-//EEP//EN
BEGIN:VEVENT
UID:eep-568-e66b9d8725c1ab79803aefeae12c3304@example
DTSTAMP:20260424T160817Z
DTSTART:20260403T090000Z
DTEND:20260403T150000Z
SUMMARY:NexDirectory Corporate: Quarterly Community Forum - Berlin
DESCRIPTION:Quarterly Community Forum official programme entry in Berlin with sessions, media, and attendee-ready details.
LOCATION:Messedamm 26
END:VEVENT
END:VCALENDAR
