BEGIN:VCALENDAR
VERSION:2.0
PRODID:-//EEP//EN
BEGIN:VEVENT
UID:eep-567-7fa2ac434a787b2de3e582a59aa0ad84@example
DTSTAMP:20260424T152142Z
DTSTART:20250920T090000Z
DTEND:20250920T130000Z
SUMMARY:NexDirectory Corporate: Members-Only Strategy Session - Toronto
DESCRIPTION:Members-Only Strategy Session official programme entry in Toronto with sessions, media, and attendee-ready details.
LOCATION:255 Front St W
END:VEVENT
END:VCALENDAR
