BEGIN:VCALENDAR
VERSION:2.0
PRODID:-//EEP//EN
BEGIN:VEVENT
UID:eep-566-cd1f448da6e02424a64527f15db4c868@example
DTSTAMP:20260424T161016Z
DTSTART:20260330T090000Z
DTEND:20260330T190000Z
SUMMARY:NexDirectory Corporate: Public Engineering Community Event - New York
DESCRIPTION:Public Engineering Community Event official programme entry in New York with sessions, media, and attendee-ready details.
LOCATION:429 11th Ave
END:VEVENT
END:VCALENDAR
