BEGIN:VCALENDAR
VERSION:2.0
PRODID:-//EEP//EN
BEGIN:VEVENT
UID:eep-565-993b000d3a56036931b8bc95e6a0877c@example
DTSTAMP:20260424T145318Z
DTSTART:20260328T090000Z
DTEND:20260328T170000Z
SUMMARY:NexDirectory Corporate: Innovation Campus Open Day - London
DESCRIPTION:Innovation Campus Open Day official programme entry in London with sessions, media, and attendee-ready details.
LOCATION:Royal Victoria Dock\, 1 Western Gateway
END:VEVENT
END:VCALENDAR
