BEGIN:VCALENDAR
VERSION:2.0
PRODID:-//EEP//EN
BEGIN:VEVENT
UID:eep-564-a82b475fb949d898d61519e16204c765@example
DTSTAMP:20260424T145323Z
DTSTART:20260326T090000Z
DTEND:20260328T090000Z
SUMMARY:NexDirectory Corporate: Product Launch Showcase - Sao Paulo
DESCRIPTION:Product Launch Showcase official programme entry in Sao Paulo with sessions, media, and attendee-ready details.
LOCATION:Rua Jose Bernardo Pinto\, 333
END:VEVENT
END:VCALENDAR
