BEGIN:VCALENDAR
VERSION:2.0
PRODID:-//EEP//EN
BEGIN:VEVENT
UID:eep-563-4d295ea834dfe7b1b8c05a8c5d105656@example
DTSTAMP:20260424T152142Z
DTSTART:20260324T090000Z
DTEND:20260324T130000Z
SUMMARY:NexDirectory Corporate: Strategy Roundtable Forum - Tokyo
DESCRIPTION:Strategy Roundtable Forum official programme entry in Tokyo with sessions, media, and attendee-ready details.
LOCATION:3-11-1 Ariake
END:VEVENT
END:VCALENDAR
