BEGIN:VCALENDAR
VERSION:2.0
PRODID:-//EEP//EN
BEGIN:VEVENT
UID:eep-562-165be77f14f92fd55e42e069111e7f84@example
DTSTAMP:20260424T145200Z
DTSTART:20260322T090000Z
DTEND:20260322T190000Z
SUMMARY:NexDirectory Corporate: Industry Mixer Social - Dubai
DESCRIPTION:Industry Mixer Social official programme entry in Dubai with sessions, media, and attendee-ready details.
LOCATION:Sheikh Zayed Rd
END:VEVENT
END:VCALENDAR
