BEGIN:VCALENDAR
VERSION:2.0
PRODID:-//EEP//EN
BEGIN:VEVENT
UID:eep-561-bb318d023cb780f0e614394eb48c8028@example
DTSTAMP:20260424T145311Z
DTSTART:20251125T090000Z
DTEND:20251125T170000Z
SUMMARY:NexDirectory Corporate: Member Meetup Series - Sydney
DESCRIPTION:Member Meetup Series official programme entry in Sydney with sessions, media, and attendee-ready details.
LOCATION:14 Darling Dr
END:VEVENT
END:VCALENDAR
