BEGIN:VCALENDAR
VERSION:2.0
PRODID:-//EEP//EN
BEGIN:VEVENT
UID:eep-560-57a684d68c67948e11535357b6e99453@example
DTSTAMP:20260424T145318Z
DTSTART:20260318T090000Z
DTEND:20260318T150000Z
SUMMARY:NexDirectory Corporate: Executive Networking Evening - Singapore
DESCRIPTION:Executive Networking Evening official programme entry in Singapore with sessions, media, and attendee-ready details.
LOCATION:1 Raffles Blvd
END:VEVENT
END:VCALENDAR
