BEGIN:VCALENDAR
VERSION:2.0
PRODID:-//EEP//EN
BEGIN:VEVENT
UID:eep-559-301033f8e0bbd1eea01ef31dc7cae583@example
DTSTAMP:20260424T145311Z
DTSTART:20260316T090000Z
DTEND:20260316T130000Z
SUMMARY:NexDirectory Corporate: Industry Awards Ceremony - Paris
DESCRIPTION:Industry Awards Ceremony official programme entry in Paris with sessions, media, and attendee-ready details.
LOCATION:2 Place de la Porte Maillot
END:VEVENT
END:VCALENDAR
