BEGIN:VCALENDAR
VERSION:2.0
PRODID:-//EEP//EN
BEGIN:VEVENT
UID:eep-555-c8aea3f99f8b5b7e875949423ef331bb@example
DTSTAMP:20260424T152004Z
DTSTART:20260130T090000Z
DTEND:20260201T090000Z
SUMMARY:NexDirectory Corporate: Flagship Annual Engineering Conference - London
DESCRIPTION:Flagship Annual Engineering Conference official programme entry in London with sessions, media, and attendee-ready details.
LOCATION:Royal Victoria Dock\, 1 Western Gateway
END:VEVENT
END:VCALENDAR
